BEGIN:VCALENDAR
VERSION:2.0
PRODID:-//wp-events-plugin.com//7.2.3.1//EN
TZID:Europe/Vienna
X-WR-TIMEZONE:Europe/Vienna
BEGIN:VEVENT
UID:13@mittelstand.de
DTSTART;TZID=Europe/Berlin;VALUE=DATE:20240801
DTEND;TZID=Europe/Berlin;VALUE=DATE:20250101
DTSTAMP:20240720T075800Z
URL:https://mittelstand.de/events/living-circle-bewusstsein-des-kreises/
SUMMARY:LIVING CIRCLE - BEWUSSTSEIN DES KREISES
DESCRIPTION:ZENTRUM ZUR REVITALISIERUNG\ndes Europäischen Bildungs-\, Wirt
 schafts-\, Kultur- und Sozialwesen.\n\nZeit ist etwas\, das sehr schwer zu
  definieren ist. Es ist ein Versuch\, etwas zu beschreiben\, das gleich zw
 ei verschiedene Realitäten beherbergt.\n\nSo ist es auch\, wenn ein Mensc
 h etwas hört\, das das Potenzial besitzt\, tief in die Gedankenwelt von M
 enschen verschiedenster Berufe\, Bildungsniveaus und gegenwärtigen Lebens
 aufgaben einzutauchen. Zum Beispiel Politiker\, EU-Abgeordnete\, Mütter u
 nd Väter mit schulreifen Kindern\, Selbstständige\, Führungskräfte\, H
 andwerker und überhaupt berufstätige Menschen.\n\nIn diesem Workshop erl
 eben sie eine Geschichte für alle Europäer. Eine Geschichte\, die in ihn
 en – als Mensch – eine Erinnerung erwecken wird\, egal welches Alters\
 , Beruf oder Generation. Aber es ist nicht nur eine Geschichte\, sondern a
 uch ein aktuelles regionales Entwicklungskonzept das sie mitgestalten kön
 nen und das tief in der europäischen Geschichte verankert ist.\n\nEs ist 
 eine Zeitreise und zugleich eine Beschreibung einer Gegenwart\, die mögli
 ch werden kann\, wenn genug Menschen verstehen\, dass ihre Zukunft abhäng
 ig ist von der Umsetzung in die Realität.\n\nDie Geschichte Europas beinh
 altet eine Kreiskultur\, eine Geschichte\, die tief verankert ist\, im gen
 etischen Erbe jedes/r Europäers/in. Dieses Buch\, ist ein Wegweiser\, um 
 dieses Bewusstsein wiederzuerwecken. Oder um es besser zu beschreiben\, da
 s Erwachen eines Samens\, dessen Zeit gekommen ist\, um zu keimen.\n\nBild
 ung ist ein natürlicher Prozess\, der vom Ambiente abhängig ist. In dies
 em Workshop werden verschiedene Generationen an ihr Erbe erinnert. Einem T
 ag\, der die Zeit geschrieben hat\, um einen Keim zu erwecken\, der tief i
 n jedem ruht.\n\nDieser Workshop ist frei buchbar\, für Gruppen\, Veranst
 altungen\, Seminarhäuser die nach neuen\, sinnstiftenden Ansätzen suchen
 .\n
ATTACH;FMTTYPE=image/jpeg:https://mittelstand.de/wp-content/uploads/2024/0
 7/BEwusstseindesKreises_Titelseite.png
CATEGORIES:Tagesseminar
END:VEVENT
BEGIN:VTIMEZONE
TZID:Europe/Berlin
X-LIC-LOCATION:Europe/Berlin
BEGIN:DAYLIGHT
DTSTART:20240331T030000
TZOFFSETFROM:+0100
TZOFFSETTO:+0200
TZNAME:CEST
END:DAYLIGHT
BEGIN:STANDARD
DTSTART:20241027T020000
TZOFFSETFROM:+0200
TZOFFSETTO:+0100
TZNAME:CET
END:STANDARD
END:VTIMEZONE
END:VCALENDAR