BEGIN:VCALENDAR
VERSION:2.0
PRODID:-//wp-events-plugin.com//7.2.3.1//EN
TZID:Europe/Vienna
X-WR-TIMEZONE:Europe/Vienna
BEGIN:VEVENT
UID:4@mittelstand.de
DTSTART;TZID=Europe/Berlin;VALUE=DATE:20230811
DTEND;TZID=Europe/Berlin;VALUE=DATE:20230819
DTSTAMP:20230520T212519Z
URL:https://mittelstand.de/events/vision-quest-elements/
SUMMARY:VISION QUEST | ELEMENTS
DESCRIPTION:Bei einer\n\nVISIONSSUCHE | VISION QUEST | QUEST OF VISION\nzie
 hst du dich allein für mehrere Tage\,\nfastend in die Natur zurück.\n\nM
 anche Menschen nutzen sie heute\,\num eine klärende Antwort \nauf Ihre Le
 bensfrage zu finden.\n\nManche Menschen nutzen sie heute\,\num ihre Gedank
 en und ihre Gesundheit\nin neue Bahnen zu lenken.\n\nManche Menschen nutze
 n sie heute\,\num ihren eigenen Ängsten und Grenzen\nzu begegnen.\n\nManc
 he Menschen nutzen sie\,\num sich wieder mit der Natur\, den Elementen\nun
 d dem ursprünglichen Wesen\nzu verbinden.\n\n*\n\nDoch ihr wahrer Ursprun
 g und ihre Wirkung\,\nbedeutet sehr viel mehr und verbindet Dich\nmit Dein
 er indigenen Urkultur.\nAber bleibt unbeschreiblich\,\nbis man sie erlebt 
 hat.\n\n*\n\nDafür stellen wir einen einmaligen\, fachkundigen Rahmen (Th
 omas Arculeo) in der richtigen Umgebung zu Verfügung. Damit das wahre Wes
 en\, der wahren Ursprung und die kraftgebende und klärende Wirkung einer 
 Vision Quest erfahren werden kann.\nDas Besondere an dieser QUEST.\n\nDie 
 Vision Quest | ELEMENTS bereitet Sie zusätzlich auf ein ganzheitliches Be
 wusstsein vor und ist besonders geeignet für Menschen\, die ihre Bestimmu
 ng bisher nur fühlten und nun Gewissheit finden wollen.\n\nGehe den origi
 nalen Weg der Schamanen\, Druiden\, Medizinmänner und stimme Dich zusätz
 lich auf die Ausbildungen des LIVING CIRCLE ein. Der Weg der Friedvollen L
 ösungen.\n\nWeitere Informationen
ATTACH;FMTTYPE=image/jpeg:https://mittelstand.de/wp-content/uploads/2023/0
 5/LC_VISIONQUEST_ELEMTS.png
CATEGORIES:Wochenseminar
LOCATION:Gästehaus Aquarium\, Heidgen 34\, Monschau\, NRW\, 52156\, Aachen
 \, Deutschland
X-APPLE-STRUCTURED-LOCATION;VALUE=URI;X-ADDRESS=Heidgen 34\, Monschau\, NRW
 \, 52156\, Aachen\, Deutschland;X-APPLE-RADIUS=100;X-TITLE=Gästehaus Aqua
 rium:geo:0,0
END:VEVENT
BEGIN:VTIMEZONE
TZID:Europe/Berlin
X-LIC-LOCATION:Europe/Berlin
BEGIN:DAYLIGHT
DTSTART:20230326T030000
TZOFFSETFROM:+0100
TZOFFSETTO:+0200
TZNAME:CEST
END:DAYLIGHT
END:VTIMEZONE
END:VCALENDAR