BEGIN:VCALENDAR
VERSION:2.0
PRODID:-//wp-events-plugin.com//7.2.3.1//EN
TZID:Europe/Vienna
X-WR-TIMEZONE:Europe/Vienna
BEGIN:VEVENT
UID:6@mittelstand.de
DTSTART;TZID=Europe/Berlin:20230708T100000
DTEND;TZID=Europe/Berlin:20230708T160000
DTSTAMP:20230627T181146Z
URL:https://mittelstand.de/events/waldkraft-die-weisheit-des-waldes/
SUMMARY:WALDKRAFT | Die Weisheit des Waldes
DESCRIPTION:Persönliche Entwicklung und Wachstum\,\nnach dem Gesetz des Sa
 men.\n\nEin Schnuppertag des “LIVING CIRCLE”.\n\nUr-Kulturbildung auf 
 einem anderen Level.\n\nFinde Deinen Wurzeln!\nWenn Du nicht mehr weist\, 
 wohin\, warum\, wofür?\nPersönliche Entwicklung und Wachstum\, nach dem 
 Gesetz des Samen.\nEin Schnuppertag des “LIVING CIRCLE”.\nUr-Kulturbil
 dung auf einem anderen Level.\n\nDas Tagesseminar\nEin Tag im Wald\, (Barf
 uss?)\, Kräuter\, Körperintelligenz und Naturverbundenheit auf besondere
  Art erleben.\nNeurowissenschaft\, Mythologie\, Wahrheits- und Wahrnehmung
 straining.\nDas Bewusstsein des Atem und der Weg deiner Urkultur.\nVerstec
 kte Urwissenschaft der erfolgreichsten Kulturen hautnah erleben.\nDer Weg 
 zur Veränderung.\nBedeutet\, sich Größerem zu öffnen.\n5 Wege zur Wahr
 heit!\nErde\, Feuer\, Wasser\, Luft\, und …\n\nweitere Fragen? \n
ATTACH;FMTTYPE=image/jpeg:https://mittelstand.de/wp-content/uploads/2023/0
 6/Waldkraft_230708_2.png
CATEGORIES:Tagesseminar
LOCATION:https://www.google.com/maps/search/Rott+Hahnerstrasse/@50.6541965,
 6.2544222,273m/data=!3m1!1e3
END:VEVENT
BEGIN:VTIMEZONE
TZID:Europe/Berlin
X-LIC-LOCATION:Europe/Berlin
BEGIN:DAYLIGHT
DTSTART:20230326T030000
TZOFFSETFROM:+0100
TZOFFSETTO:+0200
TZNAME:CEST
END:DAYLIGHT
END:VTIMEZONE
END:VCALENDAR